BEGIN:VCALENDAR
VERSION:2.0
PRODID:-//wp-events-plugin.com//7.0.5//EN
TZID:Europe/Vienna
X-WR-TIMEZONE:Europe/Vienna
BEGIN:VEVENT
UID:28@kalender.piaristencampus.at
DTSTART;TZID=Europe/Vienna:20250609T050000
DTEND;TZID=Europe/Vienna:20250609T070000
DTSTAMP:20250608T000633Z
URL:https://kalender.piaristencampus.at/veranstaltungen/x5/
SUMMARY:x5
DESCRIPTION:
END:VEVENT
BEGIN:VTIMEZONE
TZID:Europe/Vienna
X-LIC-LOCATION:Europe/Vienna
BEGIN:DAYLIGHT
DTSTART:20250330T030000
TZOFFSETFROM:+0100
TZOFFSETTO:+0200
TZNAME:CEST
END:DAYLIGHT
END:VTIMEZONE
END:VCALENDAR