BEGIN:VCALENDAR
VERSION:2.0
PRODID:-//wp-events-plugin.com//7.0.5//EN
TZID:Europe/Vienna
X-WR-TIMEZONE:Europe/Vienna
BEGIN:VEVENT
UID:27@kalender.piaristencampus.at
DTSTART;TZID=Europe/Vienna:20250525T070000
DTEND;TZID=Europe/Vienna:20250525T120000
DTSTAMP:20250607T205147Z
URL:https://kalender.piaristencampus.at/veranstaltungen/x4/
SUMMARY:x4
DESCRIPTION:
END:VEVENT
BEGIN:VTIMEZONE
TZID:Europe/Vienna
X-LIC-LOCATION:Europe/Vienna
BEGIN:DAYLIGHT
DTSTART:20250330T030000
TZOFFSETFROM:+0100
TZOFFSETTO:+0200
TZNAME:CEST
END:DAYLIGHT
END:VTIMEZONE
END:VCALENDAR