BEGIN:VCALENDAR
VERSION:2.0
PRODID:-//wp-events-plugin.com//7.0.5//EN
TZID:Europe/Vienna
X-WR-TIMEZONE:Europe/Vienna
BEGIN:VEVENT
UID:29@kalender.piaristencampus.at
DTSTART;TZID=Europe/Vienna:20250612T060000
DTEND;TZID=Europe/Vienna:20250612T090000
DTSTAMP:20250608T122953Z
URL:https://kalender.piaristencampus.at/veranstaltungen/x3-2/
SUMMARY:x3
DESCRIPTION:
END:VEVENT
BEGIN:VTIMEZONE
TZID:Europe/Vienna
X-LIC-LOCATION:Europe/Vienna
BEGIN:DAYLIGHT
DTSTART:20250330T030000
TZOFFSETFROM:+0100
TZOFFSETTO:+0200
TZNAME:CEST
END:DAYLIGHT
END:VTIMEZONE
END:VCALENDAR