BEGIN:VCALENDAR
VERSION:2.0
PRODID:-//wp-events-plugin.com//7.0.5//EN
TZID:Europe/Vienna
X-WR-TIMEZONE:Europe/Vienna
BEGIN:VEVENT
UID:25@kalender.piaristencampus.at
DTSTART;TZID=Europe/Vienna:20250610T053000
DTEND;TZID=Europe/Vienna:20250610T080000
DTSTAMP:20250610T052047Z
URL:https://kalender.piaristencampus.at/veranstaltungen/x2/
SUMMARY:x2
DESCRIPTION:
CATEGORIES:Bürobesprechung,Meeting
END:VEVENT
BEGIN:VTIMEZONE
TZID:Europe/Vienna
X-LIC-LOCATION:Europe/Vienna
BEGIN:DAYLIGHT
DTSTART:20250330T030000
TZOFFSETFROM:+0100
TZOFFSETTO:+0200
TZNAME:CEST
END:DAYLIGHT
END:VTIMEZONE
END:VCALENDAR